BEGIN:VCALENDAR
VERSION:2.0
PRODID:-//Miejski Ośrodek Kultury w Wojkowicach - zajęcia / koncerty / spektakle - ECPv5.4.0//NONSGML v1.0//EN
CALSCALE:GREGORIAN
METHOD:PUBLISH
X-WR-CALNAME:Miejski Ośrodek Kultury w Wojkowicach - zajęcia / koncerty / spektakle
X-ORIGINAL-URL:https://www.mokwojkowice.pl
X-WR-CALDESC:Wydarzenia na Miejski Ośrodek Kultury w Wojkowicach - zajęcia / koncerty / spektakle
BEGIN:VTIMEZONE
TZID:Europe/Helsinki
BEGIN:DAYLIGHT
TZOFFSETFROM:+0200
TZOFFSETTO:+0300
TZNAME:EEST
DTSTART:20210328T010000
END:DAYLIGHT
BEGIN:STANDARD
TZOFFSETFROM:+0300
TZOFFSETTO:+0200
TZNAME:EET
DTSTART:20211031T010000
END:STANDARD
END:VTIMEZONE
BEGIN:VEVENT
DTSTART;VALUE=DATE:20210211
DTEND;VALUE=DATE:20210213
DTSTAMP:20260425T204225
CREATED:20210205T135653Z
LAST-MODIFIED:20210901T175451Z
UID:9043-1613001600-1613174399@www.mokwojkowice.pl
SUMMARY:Zatańcz z MOKiem Bartka krokiem! / WARSZTATY TANECZNE ONLINE
DESCRIPTION:Miejski Ośrodek Kultury w Wojkowicach ponownie zaprasza dzieci i młodzież do udziału w warsztatach tanecznych prowadzonych przez utalentowanego instruktora Bartka Brelę. Podczas ferii zimowych mogliśmy się przekonać jak wyglądają takie zajęcia online i na pewno wszyscy\, którzy mieli okazji nauczyć się paru kroków do układów tanecznych i poruszać w rytm muzyki razem z Bartkiem\, będą mieli ochotę na więcej lekcji! Zapraszamy na kolejny taki pokaz online 11 lutego o godzinie 17.00. \nRuch i taniec są bardzo ważne dla naszej kondycji\, a zwłaszcza\, dla kondycji dzieci\, które większość zajęć i lekcji szkolnych odbywają teraz zdalnie w domach i nie mają wiele okazji do ćwiczeń i ruchu. Bartek Brela podczas warsztatów tanecznych przekaże im parę prostych wskazówek jak aktywnie spędzić czas\, jak za pomocą łatwych rozwiązań szybko nauczyć się odpowiednich kroków tanecznych\, które można wykonywać w wolnych chwilach w domu\, lub robiąc sobie przerwy od nauki. Zajęcia są skierowane przede wszystkim do dzieci i młodzieży\, ale z pewnością każdy skorzysta z praktycznych porad naszego instruktora! \nTransmisja dostępna w linku poniżej:
URL:https://www.mokwojkowice.pl/wydarzenie/zatancz-z-mokiem-bartka-krokiem/
CATEGORIES:Warsztaty
ATTACH;FMTTYPE=image/jpeg:https://www.mokwojkowice.pl/wp-content/uploads/2021/09/wydarzenie-fb.jpg
END:VEVENT
END:VCALENDAR