BEGIN:VCALENDAR
VERSION:2.0
PRODID:-//Miejski Ośrodek Kultury w Wojkowicach - zajęcia / koncerty / spektakle - ECPv5.4.0//NONSGML v1.0//EN
CALSCALE:GREGORIAN
METHOD:PUBLISH
X-WR-CALNAME:Miejski Ośrodek Kultury w Wojkowicach - zajęcia / koncerty / spektakle
X-ORIGINAL-URL:https://www.mokwojkowice.pl
X-WR-CALDESC:Wydarzenia na Miejski Ośrodek Kultury w Wojkowicach - zajęcia / koncerty / spektakle
BEGIN:VTIMEZONE
TZID:Europe/Helsinki
BEGIN:DAYLIGHT
TZOFFSETFROM:+0200
TZOFFSETTO:+0300
TZNAME:EEST
DTSTART:20210328T010000
END:DAYLIGHT
BEGIN:STANDARD
TZOFFSETFROM:+0300
TZOFFSETTO:+0200
TZNAME:EET
DTSTART:20211031T010000
END:STANDARD
END:VTIMEZONE
BEGIN:VEVENT
DTSTART;VALUE=DATE:20210206
DTEND;VALUE=DATE:20210208
DTSTAMP:20260425T190117
CREATED:20210129T125104Z
LAST-MODIFIED:20210129T125104Z
UID:9019-1612569600-1612742399@www.mokwojkowice.pl
SUMMARY:Spektakl dla dzieci "Trzy Świnki" / Teatr Sztuka / NA ŻYWO z MOKu
DESCRIPTION:Spektakl dla dzieci “Trzy Świnki” / Teatr Sztuka / NA ŻYWO z MOKu\nKto nie zna bajki o trzech małych świnkach? Na pewno każde dziecko kiedyś słyszało tą pouczającą historię o spotkaniu świnek z wilkiem i związanych z tym perypetiach. Warto przypomnieć ją sobie jeszcze raz i zapamiętać morał płynący z tej historii\, ale przede wszystkim dobrze się bawić razem z rezolutnymi zwierzątkami. Na przedstawienie w wykonaniu aktorów Teatru Sztuka z Trzebini zaprasza Miejski Ośrodek Kultury w Wojkowicach. Spektakl odbędzie się 6 lutego o godzinie 11.00 i będzie miał formę streamingu online prosto z MOK-u. Zapraszamy wszystkie dzieci do oglądania spektaklu na naszym kanale na YouTube – link poniżej. \nTrzy małe świnki mają poważny problem – ktoś niszczy ich domek i muszą co chwilę od nowa go budować. Używają do tego różnych materiałów\, ale nie zawsze udaje im zrobić to dobrze i porządnie. Muszą więc zdać egzamin z samodzielności\, a jest im dużo łatwiej gdy przy tym tańczą\, śpiewają\, głośno się śmieją i zachęcają do tego dzieci przed ekranami! Wilka się nie boją\, a murując  domek proszą dzieci aby im pomagały i wspierały w tym wysiłku. Spektakl pokazuje\, że wspólnymi siłami można wiele zdziałać\, najważniejsze to mieć dobre nastawienie! Przedstawienie jest darmowe\, jedyne co należy zrobić to w odpowiednim momencie włączyć komputer\, telewizor\, tablet czy smartfon. Do zobaczenia w sobotnie przedpołudnie! \nZachęcamy do subskrybowania naszego kanału i ustawienia przypomnienia o rozpoczynającej się transmisji klikając w dzwoneczek \nhttps://youtu.be/KQgaKPI6bxg
URL:https://www.mokwojkowice.pl/wydarzenie/spektakl-dla-dzieci-trzy-swinki-teatr-sztuka-na-zywo-z-moku/
CATEGORIES:Dla dzieci,Online,Spektakl
ATTACH;FMTTYPE=image/jpeg:https://www.mokwojkowice.pl/wp-content/uploads/2021/01/zdjecie-na-wydarzenie-1.jpg
END:VEVENT
END:VCALENDAR