BEGIN:VCALENDAR
VERSION:2.0
PRODID:-//Miejski Ośrodek Kultury w Wojkowicach - zajęcia / koncerty / spektakle - ECPv5.4.0//NONSGML v1.0//EN
CALSCALE:GREGORIAN
METHOD:PUBLISH
X-WR-CALNAME:Miejski Ośrodek Kultury w Wojkowicach - zajęcia / koncerty / spektakle
X-ORIGINAL-URL:https://www.mokwojkowice.pl
X-WR-CALDESC:Wydarzenia na Miejski Ośrodek Kultury w Wojkowicach - zajęcia / koncerty / spektakle
BEGIN:VTIMEZONE
TZID:Europe/Helsinki
BEGIN:DAYLIGHT
TZOFFSETFROM:+0200
TZOFFSETTO:+0300
TZNAME:EEST
DTSTART:20210328T010000
END:DAYLIGHT
BEGIN:STANDARD
TZOFFSETFROM:+0300
TZOFFSETTO:+0200
TZNAME:EET
DTSTART:20211031T010000
END:STANDARD
END:VTIMEZONE
BEGIN:VEVENT
DTSTART;TZID=Europe/Helsinki:20210101T000000
DTEND;TZID=Europe/Helsinki:20211231T235900
DTSTAMP:20260425T190020
CREATED:20210209T111416Z
LAST-MODIFIED:20210903T074927Z
UID:12567-1609459200-1640995140@www.mokwojkowice.pl
SUMMARY:Nadchodzi nowe – Kalejdoskop Wojkowickich Artystów!
DESCRIPTION:  \nMiejski Ośrodek Kultury w Wojkowicach zaprasza wszystkich uzdolnionych plastycznie dorosłych do zgłaszania się ze swoją twórczością do naszej placówki. Podobnie jak przy akcji dla dzieci i młodzieży – Młodzi Malarze Wojkowic – chcemy wyłaniać wśród mieszkańców naszego miasta talenty nieodkryte\, rysujących do szuflady lub hobbystycznie\, ale również ludzi\, którzy mają na swoim koncie sukcesy lub edukację artystyczną. Kalejdoskop Wojkowickich Artystów to wirtualna galeria\, miejsce w którym można zaprezentować swój talent i własną działalność. Czas przejrzeć swoją twórczość i wysłać do MOK-u. \nKalejdoskop będzie miejscem zarezerwowanym dla wszystkich dorosłych\, dla osób które malują i rysują w różnych technikach i chętnie podzielą się z nami swoimi pracami. Jedyne co należy zrobić to zgłosić się do nas telefonicznie 32 769 64 82 bądź mailowo zgłoszenia@mokwojkowice.pl w celu ustalenia szczegółów. \nW naszej galerii znajdzie się miejsce dla ludzi z pasją\, zarówno dla tych\, którzy do tej pory nie mieli okazji podzielić się swoim hobby\, jak również dla tych którzy na tym polu działają już od jakiegoś czasu. Wszystkich Was chętnie poznamy i  czekamy z niecierpliwością na Wasze zgłoszenia! W razie pytań zapraszamy do kontaktu telefonicznego: 32 769 64 82.
URL:https://www.mokwojkowice.pl/wydarzenie/nadchodzi-nowe-kalejdoskop-wojkowickich-artystow/
LOCATION:Miejski Ośrodek Kultury w Wojkowicach\, Jaworznik 6\, Wojkowice\, śląskie\, 42-580\, Poland
CATEGORIES:Online
ATTACH;FMTTYPE=image/jpeg:https://www.mokwojkowice.pl/wp-content/uploads/2021/03/slajd-kalejdoskop.jpg
END:VEVENT
END:VCALENDAR