BEGIN:VCALENDAR
VERSION:2.0
PRODID:-//Miejski Ośrodek Kultury w Wojkowicach - zajęcia / koncerty / spektakle - ECPv5.4.0//NONSGML v1.0//EN
CALSCALE:GREGORIAN
METHOD:PUBLISH
X-WR-CALNAME:Miejski Ośrodek Kultury w Wojkowicach - zajęcia / koncerty / spektakle
X-ORIGINAL-URL:https://www.mokwojkowice.pl
X-WR-CALDESC:Wydarzenia na Miejski Ośrodek Kultury w Wojkowicach - zajęcia / koncerty / spektakle
BEGIN:VTIMEZONE
TZID:Europe/Helsinki
BEGIN:DAYLIGHT
TZOFFSETFROM:+0200
TZOFFSETTO:+0300
TZNAME:EEST
DTSTART:20200329T010000
END:DAYLIGHT
BEGIN:STANDARD
TZOFFSETFROM:+0300
TZOFFSETTO:+0200
TZNAME:EET
DTSTART:20201025T010000
END:STANDARD
END:VTIMEZONE
BEGIN:VEVENT
DTSTART;VALUE=DATE:20201022
DTEND;VALUE=DATE:20201031
DTSTAMP:20260426T055620
CREATED:20201020T125146Z
LAST-MODIFIED:20201020T125146Z
UID:8365-1603324800-1604102399@www.mokwojkowice.pl
SUMMARY:Kreatywne czwartki z pracownią MOKart
DESCRIPTION:Serdecznie zapraszamy na nowy sezon twórczych zajęć z pracownią artystyczną MOK art w Miejskim Ośrodku Kultury w Wojkowicach! Nie ma nic lepszego na jesienną chandrę\, złe samopoczucie i długie zimowe wieczory niż kreatywna atmosfera na zajęciach plastyczno-rękodzielniczych dla dorosłych. Pierwsze spotkanie po długiej przerwie odbędzie się 22 października w godzinach od 16 do 19. Zapewniamy bezpieczne warunki pracy i odpowiedni dystans\, tak aby każdy mógł w tych niepewnych czasach poczuć się u nas dobrze i w pełni wykorzystać swój twórczy potencjał. \nZajęcia w pracowni MOK art to zawsze duża dawka pomysłów\, niebanalnych rozwiązań\, pięknych inspiracji prezentowych oraz dekoracyjnych. Z wiedzą którą wyniesiesz z naszych zajęć sprawisz\, że zwykłe przedmioty nabiorą charakteru\, a każda dekoracja i pamiątka stworzona pod okiem prowadzącej\, stanie się wyjątkowym drobiazgiem. Podczas warsztatów poznajemy przeróżne techniki w tym mi.n. decoupage\, ozdabianie za pomocą bibuły i wiele innych. W czwartek 22 października zapoznamy się z tworzeniem kopert w technice 3d. Każda taka koperta będzie niepowtarzalna i będzie również pięknym artystycznym przedmiotem. Kolejne spotkanie będzie poświęcone tworzeniu kartek pop up! Aby przekonać się jak wyglądają- koniecznie weźcie udział w zajęciach. Cena jednych zajęć to 20 zł. Bilety dostępne w kasie oraz na www.mokwojkowice.pl/bilety \n \n 
URL:https://www.mokwojkowice.pl/wydarzenie/kreatywne-czwartki-z-pracownia-mokart/
CATEGORIES:Zajęcia
ATTACH;FMTTYPE=image/jpeg:https://www.mokwojkowice.pl/wp-content/uploads/2020/10/slider-1.jpg
END:VEVENT
END:VCALENDAR