BEGIN:VCALENDAR
VERSION:2.0
PRODID:-//Miejski Ośrodek Kultury w Wojkowicach - zajęcia / koncerty / spektakle - ECPv5.4.0//NONSGML v1.0//EN
CALSCALE:GREGORIAN
METHOD:PUBLISH
X-WR-CALNAME:Miejski Ośrodek Kultury w Wojkowicach - zajęcia / koncerty / spektakle
X-ORIGINAL-URL:https://www.mokwojkowice.pl
X-WR-CALDESC:Wydarzenia na Miejski Ośrodek Kultury w Wojkowicach - zajęcia / koncerty / spektakle
BEGIN:VTIMEZONE
TZID:Europe/Helsinki
BEGIN:DAYLIGHT
TZOFFSETFROM:+0200
TZOFFSETTO:+0300
TZNAME:EEST
DTSTART:20200329T010000
END:DAYLIGHT
BEGIN:STANDARD
TZOFFSETFROM:+0300
TZOFFSETTO:+0200
TZNAME:EET
DTSTART:20201025T010000
END:STANDARD
END:VTIMEZONE
BEGIN:VEVENT
DTSTART;VALUE=DATE:20201111
DTEND;VALUE=DATE:20201113
DTSTAMP:20260426T021632
CREATED:20201109T095833Z
LAST-MODIFIED:20210901T175206Z
UID:8500-1605052800-1605225599@www.mokwojkowice.pl
SUMMARY:Koncert pieśni polskiej i patriotycznej - 11 listopada
DESCRIPTION:Z okazji Narodowego Święta Niepodległości  Burmistrz Miasta Wojkowice Tomasz Szczerba oraz Miejski Ośrodek Kultury w Wojkowicach zapraszają wszystkich mieszkańców Wojkowic na wspaniały koncert w wykonaniu artystów zawodowo zajmujących się muzyką. Otwierając się na nowe formy przekazu\, każdy będzie mógł wysłuchać koncertu w wersji online\, bezpiecznie we własnych domach. Wydarzenie będzie miało miejsce 11 listopada o godzinie 17.00. Serdecznie zapraszamy! \n Święto Niepodległości\, jedno z najważniejszych dla Polaków\, będące pamiątka odzyskania po latach zaborów niepodległości\, jest co roku obchodzone przez wszystkich uroczyście\, z odpowiednią powagą\, ale także podczas wielu ciekawych i niebanalnych akcji patriotycznych. Jednym z ważniejszych elementów świętowania są oczywiście przepiękne pieśni stanowiące dorobek kulturowy Polski i upamiętniające ten czas radości z odzyskanego Państwa. Miejski Ośrodek Kultury zaprasza na koncert w wykonaniu artystów: Paulina Dziedzic – mezzosopran\, Michał Dziedzic – tenor\, Joanna Steczek – fortepian. Wspaniałe wokalne możliwości artystów pozwolą nam poczuć ducha tego dnia\, śpiewać razem z artystami oraz przypomnieć sobie słowa pięknych\, polskich piosenek. Wydarzenie będzie można oglądać za pośrednictwem mediów społecznościowych.
URL:https://www.mokwojkowice.pl/wydarzenie/koncert-piesni-polskiej-i-patriotycznej-11-listopada/
ATTACH;FMTTYPE=image/jpeg:https://www.mokwojkowice.pl/wp-content/uploads/2020/11/Kopia-Bez-tytułu1-1.jpg
END:VEVENT
END:VCALENDAR