BEGIN:VCALENDAR
VERSION:2.0
PRODID:-//Miejski Ośrodek Kultury w Wojkowicach - zajęcia / koncerty / spektakle - ECPv5.4.0//NONSGML v1.0//EN
CALSCALE:GREGORIAN
METHOD:PUBLISH
X-WR-CALNAME:Miejski Ośrodek Kultury w Wojkowicach - zajęcia / koncerty / spektakle
X-ORIGINAL-URL:https://www.mokwojkowice.pl
X-WR-CALDESC:Wydarzenia na Miejski Ośrodek Kultury w Wojkowicach - zajęcia / koncerty / spektakle
BEGIN:VTIMEZONE
TZID:Europe/Helsinki
BEGIN:DAYLIGHT
TZOFFSETFROM:+0200
TZOFFSETTO:+0300
TZNAME:EEST
DTSTART:20210328T010000
END:DAYLIGHT
BEGIN:STANDARD
TZOFFSETFROM:+0300
TZOFFSETTO:+0200
TZNAME:EET
DTSTART:20211031T010000
END:STANDARD
END:VTIMEZONE
BEGIN:VEVENT
DTSTART;VALUE=DATE:20210411
DTEND;VALUE=DATE:20210413
DTSTAMP:20260426T034748
CREATED:20191209T110938Z
LAST-MODIFIED:20210901T175701Z
UID:6661-1618099200-1618271999@www.mokwojkowice.pl
SUMMARY:Daria Zawiałow na 10-tych Wojkowickich Dniach Kultury
DESCRIPTION:Nowa data koncertu to 11 kwietnia 2021 o godzinie 19.00. Wszystkie bilety zakupione na terminy 19 kwietnia 2020 oraz 18 października 2020 (godziny 17.30 i 20.00) zachowują ważność na nowy termin. O ewentualnych kolejnych zmianach będziemy informować poprzez naszą stronę WWW\, Facebooka i Instagrama\, ale mamy nadzieję\, że nie będzie już takiej konieczności. Do zobaczenia! \nOczywiście cały czas istnieje możliwość zwrotu biletu. Formularz zwrotu biletu dostępny tutaj – https://www.mokwojkowice.pl/kasa/ \nNasz MOK ma już 10 lat! Czas leci tak szybko\, zostają wspomnienia\, niezliczona ilość koncertów\, festiwali\, przeglądów i wydarzeń. Już planujemy kolejne\, ale dziesięciolecie to wyjątkowy jubileusz\, tym samym nasze koncerty i goście również będą wyjątkowe! Już teraz zdradzamy\, że okrągła rocznica działalności MOK-u zbiegnie się z trasą koncertową młodej i utalentowanej gwiazdy polskiej piosenki – Darii Zawiałow. W ramach trasy koncertowej Helsinki Tour 3.0\, jednym z jej muzycznych przystanków będzie właśnie Miejski Ośrodek Kultury w Wojkowicach! \nDaria Zawiałow dała się poznać za sprawą wielu telewizyjnych programów muzycznych typu talent show\, w których zajmowała wysokie miejsca . Śpiewa od najmłodszych lat\, a w miarę doskonalenia warsztatu wokalnego jej sukcesy są coraz częstsze. Single takie jak „Kundel Bury” i „Miłostki” doczekały się mocnych pozycji na radiowych listach przebojów oraz milionów wyświetleń w internecie. \nPo raz pierwszy swój debiutancki materiał zaśpiewała podczas koncertu w Studiu im. Agnieszki Osieckiej\, wkrótce też pojawiła się jej pierwsza płyta „A kysz”. Jej drugi album studyjny „Helsinki” sprawił\, że została nominowana do nagród MTV Europe Music Awards 2019 w kategorii najlepszy polski wykonawca. Będziemy więc mieli doskonałą okazję do wysłuchania Darii Zawiałow na żywo\, a tym samym świętowania 10 lat z kulturą w Wojkowicach na najwyższym poziomie. \nKup bilet \n \n  \n  \n  \n 
URL:https://www.mokwojkowice.pl/wydarzenie/daria-zawialow-na-10-tych-wojkowickich-dniach-kultury/
CATEGORIES:Koncert,Obchody
ATTACH;FMTTYPE=image/jpeg:https://www.mokwojkowice.pl/wp-content/uploads/2019/12/DARIA-11-kwietnia.jpg
END:VEVENT
END:VCALENDAR