BEGIN:VCALENDAR
VERSION:2.0
PRODID:-//Miejski Ośrodek Kultury w Wojkowicach - zajęcia / koncerty / spektakle - ECPv5.4.0//NONSGML v1.0//EN
CALSCALE:GREGORIAN
METHOD:PUBLISH
X-WR-CALNAME:Miejski Ośrodek Kultury w Wojkowicach - zajęcia / koncerty / spektakle
X-ORIGINAL-URL:https://www.mokwojkowice.pl
X-WR-CALDESC:Wydarzenia na Miejski Ośrodek Kultury w Wojkowicach - zajęcia / koncerty / spektakle
BEGIN:VTIMEZONE
TZID:Europe/Helsinki
BEGIN:DAYLIGHT
TZOFFSETFROM:+0200
TZOFFSETTO:+0300
TZNAME:EEST
DTSTART:20260329T010000
END:DAYLIGHT
BEGIN:STANDARD
TZOFFSETFROM:+0300
TZOFFSETTO:+0200
TZNAME:EET
DTSTART:20261025T010000
END:STANDARD
END:VTIMEZONE
BEGIN:VEVENT
DTSTART;TZID=Europe/Helsinki:20260118T170000
DTEND;TZID=Europe/Helsinki:20260118T210000
DTSTAMP:20260426T020326
CREATED:20251219T132914Z
LAST-MODIFIED:20260118T122146Z
UID:58278-1768755600-1768770000@www.mokwojkowice.pl
SUMMARY:Blues nad Brynicą – IV edycja!
DESCRIPTION:📢 Informacja organizacyjna ❗ Z przyczyn losowych zespół Konspeara nie wystąpi na festiwalu „Blues nad Brynicą” . W jego miejsce na scenie pojawi się zespół Rockomotive ❗Dziękujemy za zrozumienie!\nBlues nad Brynicą\, czyli przegląd najlepszej muzyki tego gatunku\, powraca po raz czwarty! Miłośnicy bluesa ponownie spotkają się w MOK-u\, gdzie zabrzmi muzyka pełna emocji\, szczerości i autentycznego klimatu. To wydarzenie na stałe wpisało się w kalendarz bluesowych spotkań\, przyciągając zarówno wiernych fanów\, jak i tych\, którzy dopiero odkrywają magię bluesa. \nWydarzenie odbędzie się 18 stycznia\, a koncert rozpocznie się o godzinie 17:00. Na scenie wystąpią trzy wyjątkowe formacje\, prezentujące różne oblicza bluesa – od subtelnych\, soulowych emocji\, przez blues-rockowe brzmienia\, aż po prawdziwą legendę polskiej sceny. \nRockomotive to prawdziwi festiwalowi weterani. Zespół powstał w 2003 roku z inicjatywy gitarzysty\, kompozytora i autora tekstów – Jarosława Nasalskiego. W skład zespołu wchodzą jeszcze: Michał Majka – wokal\, Dariusz Nawara – perkusja\, Krzysztof Nowak – bas\, Wojciech Bembenek – gitara oraz Michał Kuryś – hammond\, instrumenty klawiszowe. Muzycy wcześniej występowali w takich formacjach jak Raut\, Blustro\, Wyrwani czy Badoo. Teraz usłyszymy ich w nowym wydaniu i będziemy mogli podziwiać połączenie ich muzycznej wrażliwości ze scenicznym profesjonalizmem. Na swoim koncie mają sukcesy m.in. na RAWA BLUES Festival 2004 i 2017( III miejsce oraz Grand Prix)\, a także na VII Festiwalu Muzycznym im. Ryśka Riedla (Grand Prix). \nKarolina Kidoń – wokalistka z Ustronia\, znana m.in. jako liderka zespołu Puste Biuro. Występowała na najważniejszych festiwalach bluesowych w Polsce\, współpracowała z czołówką polskich artystów i jest laureatką licznych nagród kulturalnych. Według polskich magazynów bluesowych jej głos należy do ścisłej czołówki damskich wokalistek bluesowych w kraju.\nTowarzyszyć jej będzie Tomasz Pala – pianista\, absolwent Akademii Muzycznej w Katowicach\, muzyk sesyjny i teatralny\, znany z niezwykłej swobody i swingowego wyczucia. \nOLD BREAKOUT to reaktywacja legendarnego zespołu Breakout – ikony polskiego blues-rocka\, założonej przez Tadeusza Nalepę. Projekt tworzą muzycy związani z oryginalnym składem zespołu i od ponad 10 lat koncertują oni w Polsce oraz w całej Europie\, prezentując kanoniczne utwory Breakoutu i Tadeusza Nalepy z lat 70. i 80.\nJesienią 2024 roku zespół zakończył imponującą trasę „OLD BREAKOUT – 80a”\, obejmującą aż 115 koncertów\, przygotowaną z okazji 80. rocznicy urodzin Tadeusza Nalepy i Tadeusza Trzcińskiego. W 2025 roku grupa kontynuuje działalność trasą „Rzeka dzieciństwa”\, będącą muzycznym powrotem do źródeł polskiego bluesa.\nOld Breakout ma na koncie kilka albumów\, w tym „Tribute to Nalepa & Kubasińska”\, jubileuszową płytę „80a” oraz dwupłytowe wydawnictwo koncertowe „LIVE”. Ich koncerty to połączenie wirtuozerii\, ogromnej dbałości o brzmienie i wyjątkowej atmosfery\, które publiczność określa jako prawdziwe muzyczne święto. \nBilety: 50 zł w przedsprzedaży\, 60 zł w dniu koncertu. Dostępne online oraz w kasie MOK-u (kasa czynna od 7 stycznia).\nZapraszamy na IV edycję Bluesa nad Brynicą – to będzie wieczór pełen emocji\, wspomnień i doskonałej muzyki na żywo. \nIV edycja Bluesa nad Brynicą została objęta patronatem medialnym kwartalnika Twój Blues oraz Radia Ty i Ja. \nKUP BILET
URL:https://www.mokwojkowice.pl/wydarzenie/blues-nad-brynica-iv-edycja/
LOCATION:Miejski Ośrodek Kultury w Wojkowicach\, Jaworznik 6\, Wojkowice\, śląskie\, 42-580\, Poland
ATTACH;FMTTYPE=image/jpeg:https://www.mokwojkowice.pl/wp-content/uploads/2025/12/BLUES-INSTA-2.jpg
ORGANIZER;CN="Miejski%20O%C5%9Brodek%20Kultury%20w%20Wojkowicach":MAILTO:mok@mokwojkowice.pl
END:VEVENT
BEGIN:VEVENT
DTSTART;TZID=Europe/Helsinki:20260123T170000
DTEND;TZID=Europe/Helsinki:20260123T190000
DTSTAMP:20260426T020326
CREATED:20260114T085712Z
LAST-MODIFIED:20260114T085857Z
UID:58694-1769187600-1769194800@www.mokwojkowice.pl
SUMMARY: „SPOJRZENIA” – wystawa grafik i kolaży Jadwigi Nikodem
DESCRIPTION:Zapraszamy na wystawę „Spojrzenia” – prezentację grafik i kolaży Jadwigi Nikodem\, artystki od lat związanej z Bielskiem-Białą\, której twórczość łączy wrażliwość obserwatorki świata z precyzją matematycznego umysłu\, która odbędzie się 23 stycznia o godz. 17:00 w Miejskim Ośrodku Kultury w Wojkowicach. Wstęp na wydarzenie jest wolny. \n  \nJadwiga Nikodem\, absolwentka matematyki Uniwersytetu Śląskiego w Katowicach\, przez całe życie zawodowe związana była z edukacją młodzieży – od szkół średnich po Akademię Techniczno-Humanistyczną w Bielsku-Białej. Równolegle rozwijała swoją pasję do sztuki\, czerpiąc inspiracje z przyrody\, ludzi i licznych podróży. Jej twórczość była prezentowana na dziesięciu wystawach indywidualnych i wielu zbiorowych oraz nagradzana i wyróżniana w Konkursie im. Ignacego Bieńka. Artystka posługuje się wieloma technikami – od rysunku\, akwareli i malarstwa olejnego po grafikę i technikę cyfrową. W ostatnich latach szczególne miejsce w jej twórczości zajmują stylizowane portrety tancerzy tanga\, realizowane autorską techniką. Cykl ten był prezentowany m.in. na wystawach „18 Mujeres” oraz „Tango jest Kobietą”\, a grafika „Cabeceo” otrzymała nominację do nagrody „Gardele” na Infinity Tango Festival w Zakopanem w 2025 roku. Na wystawie „Spojrzenia” zaprezentowane zostaną grafiki i kolaże wykonane w technice cyfrowej\, powstałe z połączenia wcześniej malowanych portretów oraz fragmentów autorskich fotografii. To prace pełne emocji i napięcia\, w których kluczową rolę odgrywa gest\, spojrzenie i relacja między postaciami.
URL:https://www.mokwojkowice.pl/wydarzenie/spojrzenia-wystawa-grafik-i-kolazy-jadwigi-nikodem/
LOCATION:Miejski Ośrodek Kultury w Wojkowicach\, Jaworznik 6\, Wojkowice\, śląskie\, 42-580\, Poland
CATEGORIES:Wystawa
ATTACH;FMTTYPE=image/jpeg:https://www.mokwojkowice.pl/wp-content/uploads/2026/01/WYSTAWA-INSTA.jpg
ORGANIZER;CN="Miejski%20O%C5%9Brodek%20Kultury%20w%20Wojkowicach":MAILTO:mok@mokwojkowice.pl
END:VEVENT
BEGIN:VEVENT
DTSTART;TZID=Europe/Helsinki:20260124T160000
DTEND;TZID=Europe/Helsinki:20260124T180000
DTSTAMP:20260426T020326
CREATED:20260108T104600Z
LAST-MODIFIED:20260108T104600Z
UID:58519-1769270400-1769277600@www.mokwojkowice.pl
SUMMARY:Spotkanie ze zwierzętami egzotycznymi
DESCRIPTION:Już 24 stycznia o godzinie 16.00 zapraszamy na spotkanie z niezwykłymi zwierzętami egzotycznymi. To propozycja dla wszystkich ciekawych świata przyrody – zarówno dzieci\, jak i dorosłych – którzy chcą zobaczyć z bliska gatunki rzadko spotykane na co dzień. \nPodczas wydarzenia uczestnicy poznają fascynujące zwierzęta pochodzące z różnych zakątków świata. Wśród nich znajdą się m.in. pyton birmański\, żaba rzekotka australijska\, ślimak olbrzymi\, jaszczurka teju argentyńska oraz ptasznik złotokolanowy. Prowadzący opowiedzą o ich życiu\, zwyczajach i potrzebach\, dzieląc się ciekawostkami i odpowiadając na pytania uczestników. Dużą atrakcją spotkania będzie możliwość bliskiego kontaktu ze zwierzętami. Taka forma poznawania przyrody pozwala oswoić się z nieznanym\, przełamać lęki i spojrzeć na zwierzęta z zupełnie innej perspektywy. To także świetna okazja do nauki szacunku wobec natury i odpowiedzialnego podejścia do świata zwierząt. Zwierzęta biorące udział w spotkaniu są oswojone i przyzwyczajone do obecności ludzi\, a całe wydarzenie przebiega w spokojnej i bezpiecznej atmosferze\, odpowiedniej również dla najmłodszych uczestników. \nKoszt biletu wynosi 25 zł od osoby.\nBędzie to pierwsze wydarzenie w tym roku realizowane w ramach akcji Młody Miłośnik Sztuki. W 2026 roku obowiązują nowe karty programu\, które wszyscy uczestnicy otrzymają przy wejściu na wydarzenie. Spotkanie pozwoli rozpocząć nową edycję akcji i zdobyć pierwszą pieczątkę. \nKUP BILET
URL:https://www.mokwojkowice.pl/wydarzenie/spotkanie-ze-zwierzetami-egzotycznymi/
LOCATION:Miejski Ośrodek Kultury w Wojkowicach\, Jaworznik 6\, Wojkowice\, śląskie\, 42-580\, Poland
CATEGORIES:Dla dzieci
ATTACH;FMTTYPE=image/jpeg:https://www.mokwojkowice.pl/wp-content/uploads/2026/01/EGZOTYCZNE-INSTA.jpg
ORGANIZER;CN="Miejski%20O%C5%9Brodek%20Kultury%20w%20Wojkowicach":MAILTO:mok@mokwojkowice.pl
END:VEVENT
END:VCALENDAR