BEGIN:VCALENDAR
VERSION:2.0
PRODID:-//Miejski Ośrodek Kultury w Wojkowicach - zajęcia / koncerty / spektakle - ECPv5.4.0//NONSGML v1.0//EN
CALSCALE:GREGORIAN
METHOD:PUBLISH
X-WR-CALNAME:Miejski Ośrodek Kultury w Wojkowicach - zajęcia / koncerty / spektakle
X-ORIGINAL-URL:https://www.mokwojkowice.pl
X-WR-CALDESC:Wydarzenia na Miejski Ośrodek Kultury w Wojkowicach - zajęcia / koncerty / spektakle
BEGIN:VTIMEZONE
TZID:Europe/Helsinki
BEGIN:DAYLIGHT
TZOFFSETFROM:+0200
TZOFFSETTO:+0300
TZNAME:EEST
DTSTART:20250330T010000
END:DAYLIGHT
BEGIN:STANDARD
TZOFFSETFROM:+0300
TZOFFSETTO:+0200
TZNAME:EET
DTSTART:20251026T010000
END:STANDARD
END:VTIMEZONE
BEGIN:VEVENT
DTSTART;TZID=Europe/Helsinki:20251004T160000
DTEND;TZID=Europe/Helsinki:20251004T180000
DTSTAMP:20260426T072020
CREATED:20250930T093356Z
LAST-MODIFIED:20250930T093511Z
UID:54985-1759593600-1759600800@www.mokwojkowice.pl
SUMMARY:Biesiada z folklorem w Miejskim Ośrodku Kultury w Wojkowicach
DESCRIPTION:Jesień w Wojkowicach zapowiada się wyjątkowo barwnie i muzycznie. Już 4 października o godzinie 16.00 Miejski Ośrodek Kultury ponownie stanie się gospodarzem niezwykłego wydarzenia – „Biesiady z folklorem”. To cykliczne spotkanie\, które na stałe wpisało się w kulturalny kalendarz miasta\, jest prawdziwym świętem lokalnej tradycji i doskonałą okazją do spędzenia czasu w gronie znajomych i przyjaciół. \nPodczas tegorocznej edycji na scenie wystąpią dwa zespoły\, bez których trudno wyobrazić sobie folklor Wojkowic. Regionalny Zespół Folklorystyczny „Jaworznik” od lat promuje kulturę ludową na wielu scenach w regionie i poza jego granicami. Ich występy to barwna podróż do dawnych obrzędów i zwyczajów Śląska oraz Zagłębia\, a nieodłącznym elementem są tradycyjne stroje oddające ducha dawnych czasów. „Jaworznik” to prawdziwa wizytówka miasta\, a każdy ich koncert to połączenie muzyki\, historii i piękna tradycji. \nDrugim zespołem\, który zaprezentuje się publiczności\, będą „Swojaki”. Choć grupa działa stosunkowo krótko\, zdążyła już zyskać uznanie na konkursach i przeglądach folklorystycznych. W ich repertuarze znajdują się pieśni ludowe z różnych stron Polski\, co sprawia\, że ich koncerty są różnorodne i niezwykle żywe. Dzięki nim publiczność będzie miała okazję usłyszeć nie tylko melodie znane z naszego regionu\, ale także utwory z innych zakątków kraju. \nNie zabraknie także gościnnych występów. Swoją obecnością wydarzenie uświetni zespół „Sami Swoi” z Zawiercia\, który wniesie do programu dodatkową porcję energii i folklorystycznego kolorytu. To grupa znana z żywiołowych aranżacji i radosnego podejścia do muzyki ludowej – ich obecność z pewnością sprawi\, że atmosfera biesiady będzie jeszcze bardziej różnorodna i pełna życia. \n„Biesiada z folklorem” to jednak nie tylko występy na scenie. Zgodnie z tradycją\, organizatorzy zaplanowali również wspólne śpiewanie\, taniec oraz poczęstunek\, by atmosfera spotkania była ciepła\, radosna i sprzyjająca integracji. To wydarzenie\, które łączy pokolenia – zarówno starszych\, którzy pamiętają dawne melodie\, jak i młodszych\, którzy dopiero odkrywają urok kultury ludowej. \nUdział w wydarzeniu jest możliwy jedynie na zaproszenie\, gdyż biesiada ma charakter zamknięty.
URL:https://www.mokwojkowice.pl/wydarzenie/biesiada-z-folklorem-w-miejskim-osrodku-kultury-w-wojkowicach/
LOCATION:Miejski Ośrodek Kultury w Wojkowicach\, Jaworznik 6\, Wojkowice\, śląskie\, 42-580\, Poland
ATTACH;FMTTYPE=image/jpeg:https://www.mokwojkowice.pl/wp-content/uploads/2025/09/BIESIADA-2.jpg
ORGANIZER;CN="Miejski%20O%C5%9Brodek%20Kultury%20w%20Wojkowicach":MAILTO:mok@mokwojkowice.pl
END:VEVENT
BEGIN:VEVENT
DTSTART;TZID=Europe/Helsinki:20251008T170000
DTEND;TZID=Europe/Helsinki:20251008T200000
DTSTAMP:20260426T072020
CREATED:20250930T141811Z
LAST-MODIFIED:20251008T103705Z
UID:55116-1759942800-1759953600@www.mokwojkowice.pl
SUMMARY:Otwarta próba Chóru Kameralnego już 8 października!
DESCRIPTION:Chór Kameralny Miejskiego Ośrodka Kultury w Wojkowicach zaprasza wszystkich miłośników muzyki i wspólnego śpiewania na otwartą próbę\, która odbędzie się 8 października o godz. 17:00. Wydarzenie organizowane jest w związku ze Światowym Dniem Zdrowia Psychicznego i stanowi część międzynarodowej akcji „Muzyka – Wsparcie Osób w Depresji”\, mającej na celu podnoszenie świadomości na temat depresji oraz promowanie śpiewu chóralnego jako formy wsparcia zdrowia psychicznego. \nPodczas próby odbędzie się także prelekcja psychoterapeutki Joanny Jasińskiej-Bryjak\, która opowie o znaczeniu zdrowia psychicznego i roli społecznego wsparcia w procesie zdrowienia. Uczestnicy będą mieli okazję nie tylko posłuchać\, ale również spróbować swoich sił w śpiewie chóralnym\, poczuć moc wspólnoty i doświadczyć\, jak muzyka może działać uzdrawiająco. \nWstęp jest otwarty dla wszystkich – zarówno dla doświadczonych chórzystów\, jak i osób\, które chcą po raz pierwszy spróbować wspólnego śpiewania. Dołącz do nas i odkryj\, jak śpiew może wspierać zdrowie psychiczne! \n 
URL:https://www.mokwojkowice.pl/wydarzenie/otwarta-proba-choru-kameralnego-juz-8-pazdziernika/
LOCATION:Miejski Ośrodek Kultury w Wojkowicach\, Jaworznik 6\, Wojkowice\, śląskie\, 42-580\, Poland
ATTACH;FMTTYPE=image/jpeg:https://www.mokwojkowice.pl/wp-content/uploads/2025/09/insta-1.jpg
ORGANIZER;CN="Miejski%20O%C5%9Brodek%20Kultury%20w%20Wojkowicach":MAILTO:mok@mokwojkowice.pl
END:VEVENT
BEGIN:VEVENT
DTSTART;TZID=Europe/Helsinki:20251017T170000
DTEND;TZID=Europe/Helsinki:20251017T170000
DTSTAMP:20260426T072020
CREATED:20251007T121824Z
LAST-MODIFIED:20251007T122116Z
UID:55283-1760720400-1760720400@www.mokwojkowice.pl
SUMMARY:Wystawa Elżbiety Krutow pt. „Oblicza w dialogu z poezją”
DESCRIPTION:Już 17 października 2025 roku o godzinie 17.00 w Miejskim Ośrodku Kultury w Wojkowicach odbędzie się wystawa prac Elżbiety Krutow zatytułowana „Oblicza – w dialogu z poezją”. \nTo niezwykła opowieść o życiu\, emocjach i potrzebie twórczego wyrażania siebie. Elżbieta Krutow\, mieszkanka Wojkowic\, od lat łączy zamiłowanie do malarstwa i poezji z aktywnym działaniem na rzecz lokalnej społeczności seniorów. W swoich obrazach i wierszach ukazuje świat uczuć – radość\, tęsknotę\, refleksję nad przemijaniem – a także siłę\, jaką daje pasja i otwartość na ludzi. Podczas wernisażu będzie można nie tylko podziwiać jej prace malarskie\, ale również usłyszeć kilka autorskich wierszy\, które stanowią integralną część tego artystycznego dialogu. Artystka należy do stowarzyszenia „Aktywny Wojkowicki Senior”\, jest przewodniczącą Polskiego Związku Emerytów\, Rencistów i Inwalidów w Wojkowicach\, a także członkinią Regionalnego Zespołu Folklorystycznego „Jaworznik”. Jak sama podkreśla\, aktywność\, kontakt z innymi i twórcze działanie pozwalają jej w pełni cieszyć się życiem i odnajdywać jego sens na nowo. Pisanie poezji stało się dla niej formą rozmowy z samą sobą – sposobem na zatrzymanie wspomnień\, emocji i codziennych chwil. Wystawa jest spotkaniem z wrażliwością i doświadczeniem dojrzałego życia\, w którym sztuka staje się językiem serca. To zaproszenie do refleksji nad tym\, że nigdy nie jest za późno\, by odkrywać w sobie pasje\, rozwijać talenty i dzielić się pięknem z innymi. \nWstęp wolny.
URL:https://www.mokwojkowice.pl/wydarzenie/wystawa-elzbiety-krutow-pt-oblicza-w-dialogu-z-poezja/
LOCATION:Miejski Ośrodek Kultury w Wojkowicach\, Jaworznik 6\, Wojkowice\, śląskie\, 42-580\, Poland
ATTACH;FMTTYPE=image/jpeg:https://www.mokwojkowice.pl/wp-content/uploads/2025/10/ELA-KRUTOW-INSTA.jpg
ORGANIZER;CN="Miejski%20O%C5%9Brodek%20Kultury%20w%20Wojkowicach":MAILTO:mok@mokwojkowice.pl
END:VEVENT
BEGIN:VEVENT
DTSTART;TZID=Europe/Helsinki:20251018T160000
DTEND;TZID=Europe/Helsinki:20251018T170000
DTSTAMP:20260426T072020
CREATED:20251009T105237Z
LAST-MODIFIED:20251009T105316Z
UID:55366-1760803200-1760806800@www.mokwojkowice.pl
SUMMARY:Spektakl dla dzieci „Kot w Wielkim Mieście”
DESCRIPTION:Już 18 października 2025 r. o godz. 16.00 zapraszamy na pełen muzyki\, humoru i emocji spektakl „Kot w Wielkim Mieście” – wyjątkową opowieść o przygodzie\, przyjaźni i bezpieczeństwie\, która zachwyci dzieci i dorosłych! \n  \nKotka Łapsotka ma dosyć spokojnego życia na wsi. Marzy o wielkich podróżach\, błyszczących ulicach i miejskich przygodach! Kiedy jej przyjaciółka Mizia opowiada o wizytach u eleganckiego fryzjera\, Łapsotka podejmuje decyzję – czas ruszyć do miasta! Nie słucha przestróg wiernego Zapłota i z głową pełną marzeń wyrusza w nieznane. Szybko jednak przekonuje się\, że wielkie miasto potrafi być pełne niespodzianek – nie zawsze tych miłych. Zagubiona w tłumie\, łatwowierna i nieco roztrzepana Łapsotka trafia w tarapaty. Na szczęście spotyka pomocnych przyjaciół – miejskiego kocura Chucka i dzielną Policjantkę\, którzy uczą ją\, jak bezpiecznie poruszać się po mieście. A gdzieś w oddali\, wierny Zapłot już podąża jej śladem\, gotów zrobić wszystko\, by sprowadzić przyjaciółkę do domu. „Kot w Wielkim Mieście” to pełna muzyki\, śmiechu i ciepła opowieść o przyjaźni\, odpowiedzialności i bezpieczeństwie. Barwne kostiumy\, dwie niezwykłe scenografie – wiejska i miejska – oraz bogata oprawa dźwiękowa przeniosą widzów w sam środek niezwykłej przygody. Spektakl bawi\, wzrusza i uczy – a mali widzowie dowiedzą się\, jak zachować się w nieznanym miejscu i komu można zaufać. Wstęp: 20 zł. Wydarzenie jest częścią akcji Młody Miłośnik Sztuki – to kolejna okazja\, by zdobyć pieczątkę. \nKUP BILET\n 
URL:https://www.mokwojkowice.pl/wydarzenie/spektakl-dla-dzieci-kot-w-wielkim-miescie/
LOCATION:Miejski Ośrodek Kultury w Wojkowicach\, Jaworznik 6\, Wojkowice\, śląskie\, 42-580\, Poland
ATTACH;FMTTYPE=image/jpeg:https://www.mokwojkowice.pl/wp-content/uploads/2025/10/KOT-W-WIELKIM-MIEŚCIE-INSTA.jpg
ORGANIZER;CN="Miejski%20O%C5%9Brodek%20Kultury%20w%20Wojkowicach":MAILTO:mok@mokwojkowice.pl
END:VEVENT
BEGIN:VEVENT
DTSTART;TZID=Europe/Helsinki:20251024T180000
DTEND;TZID=Europe/Helsinki:20251024T190000
DTSTAMP:20260426T072020
CREATED:20251016T165723Z
LAST-MODIFIED:20251016T165803Z
UID:55521-1761328800-1761332400@www.mokwojkowice.pl
SUMMARY:Projekcja filmu "Nasze Monte" oraz spotkanie z twórcami
DESCRIPTION:Serdecznie zapraszamy na wyjątkowy wieczór filmowy\, który odbędzie się w piątek\, 24 października 2025 roku o godzinie 18:00 w Miejskim Ośrodku Kultury w Wojkowicach. W ramach wydarzenia zaprezentujemy film “Nasze Monte”\, poruszającą opowieść o niezwykłym przedsięwzięciu sportowo-patriotycznym. \nFilm opowiada o 19-osobowej sztafecie biegowej\, która w 80. rocznicę bitwy o Monte Cassino przebiegła trasę z Krakowa do Monte Cassino we Włoszech. Biegacze pokonali 1800 km w zaledwie siedem dni i nocy\, oddając hołd bohaterom bitwy i upamiętniając ich poświęcenie. To historia nie tylko o wysiłku fizycznym\, ale przede wszystkim o sile ducha\, determinacji i wspólnocie\, która potrafi połączyć ludzi wokół ważnej idei. \nTego dnia odbędzie się również spotkanie z reżyserką filmu\, panią Elizą Bahr\, oraz jednym z uczestników sztafety\, którzy opowiedzą o kulisach realizacji filmu\, swoich doświadczeniach z biegu oraz emocjach towarzyszących temu wyjątkowemu przedsięwzięciu. Będzie to niepowtarzalna okazja\, aby poznać historię sztafety z pierwszej ręki i dowiedzieć się\, jak wyglądała jej realizacja zarówno od strony sportowej\, jak i filmowej. Ten wieczór z filmem “Nasze Monte” to nie tylko projekcja\, ale także inspirujące spotkanie z ludźmi\, którzy swoją pasją i zaangażowaniem uczcili pamięć bohaterów. To opowieść o wytrwałości\, patriotyzmie i sile wspólnoty\, która porusza i motywuje. \nWstęp na wydarzenie jest wolny. \n 
URL:https://www.mokwojkowice.pl/wydarzenie/projekcja-filmu-nasze-monte-oraz-spotkanie-z-tworcami/
LOCATION:Miejski Ośrodek Kultury w Wojkowicach\, Jaworznik 6\, Wojkowice\, śląskie\, 42-580\, Poland
ATTACH;FMTTYPE=image/jpeg:https://www.mokwojkowice.pl/wp-content/uploads/2025/10/film-instagram.jpg
ORGANIZER;CN="Miejski%20O%C5%9Brodek%20Kultury%20w%20Wojkowicach":MAILTO:mok@mokwojkowice.pl
END:VEVENT
BEGIN:VEVENT
DTSTART;TZID=Europe/Helsinki:20251025T180000
DTEND;TZID=Europe/Helsinki:20251025T193000
DTSTAMP:20260426T072020
CREATED:20251016T191936Z
LAST-MODIFIED:20251016T191936Z
UID:55555-1761415200-1761420600@www.mokwojkowice.pl
SUMMARY:Koncert Zaduszkowy – DWIE KORONY – Przeboje Krzysztofa Klenczona
DESCRIPTION:25 października o godzinie 18:00 w Miejskim Ośrodku Kultury w Wojkowicach odbędzie się wyjątkowy Koncert Zaduszkowy\, podczas którego wystąpi zespół DWIE KORONY\, uznawany za najlepszy zespół grający przeboje jednego z liderów formacji „Czerwone Gitary” i „Trzy Korony” – Krzysztofa Klenczona. \nZespół DWIE KORONY tworzą zawodowi muzycy\, którzy w swojej karierze artystycznej wydali autorskie płyty i występowali na prestiżowych festiwalach. Połączyła ich wspólna pasja i autentyczna miłość do muzyki minionych lat siedemdziesiątych i osiemdziesiątych. Przez piętnaście lat swojej obecności na estradzie zagrali setki koncertów w Polsce\, a także odbyli trasy koncertowe dla Polonii za granicą. Zespół ma na swoim koncie również kilka własnych kompozycji\, których teledyski emitowane były m.in. w TVP3\, Polsat 2 i TV4. Do koncertów DWIE KORONY został przygotowany przez śp. Janusza Kondratowicza – autora tekstów i przyjaciela Krzysztofa Klenczona. Wieczór ten będzie miał szczególny\, refleksyjny charakter – Koncert Zaduszkowy stanie się muzycznym wspomnieniem artysty\, którego twórczość na zawsze zapisała się w historii polskiej muzyki. To spotkanie pełne emocji\, wzruszeń i nostalgii\, ale też radości z obcowania z ponadczasową muzyką\, która łączy pokolenia. \nBilety w cenie 20 zł dostępne są w kasie Miejskiego Ośrodka Kultury w Wojkowicach oraz na mokwojkowice.pl/kup-bilet. Nie przegap tego niezwykłego wydarzenia\, które w atmosferze zadumy i wspomnień przypomni najpiękniejsze utwory Krzysztofa Klenczona. \nKUP BILET\n 
URL:https://www.mokwojkowice.pl/wydarzenie/koncert-zaduszkowy-dwie-korony-przeboje-krzysztofa-klenczona/
LOCATION:Miejski Ośrodek Kultury w Wojkowicach\, Jaworznik 6\, Wojkowice\, śląskie\, 42-580\, Poland
ATTACH;FMTTYPE=image/jpeg:https://www.mokwojkowice.pl/wp-content/uploads/2025/10/KONCERT-INSTAGRAM.jpg
ORGANIZER;CN="Miejski%20O%C5%9Brodek%20Kultury%20w%20Wojkowicach":MAILTO:mok@mokwojkowice.pl
END:VEVENT
BEGIN:VEVENT
DTSTART;TZID=Europe/Helsinki:20251027T150000
DTEND;TZID=Europe/Helsinki:20251027T150000
DTSTAMP:20260426T072020
CREATED:20250930T124204Z
LAST-MODIFIED:20250930T124536Z
UID:55054-1761577200-1761577200@www.mokwojkowice.pl
SUMMARY:„Wśród gwiazd i planet” – XXXIII Powiatowy Konkurs Plastyczny
DESCRIPTION:Miejski Ośrodek Kultury w Wojkowicach serdecznie zaprasza wszystkich młodych artystów do wzięcia udziału w konkursie plastycznym. Tematem tegorocznej edycji jest „Wśród gwiazd i planet”. Czekamy na Wasze prace wykonane w dowolnej technice plastycznej do 27 października do godz. 15:00. Zapraszamy zarówno najmłodsze dzieci\, które swoje pierwsze artystyczne doświadczenia zdobywają w żłobkach\, jak i dzieci z przedszkoli oraz szkół podstawowych. Prace możecie przysyłać pocztą lub dostarczyć je osobiście do MOK-u. Szczegółowe informacje znajdziecie w regulaminie dostępnym na stronie internetowej. \nW tym roku zapraszamy Was do podróży po kosmosie i odkrywania tajemnic wszechświata. Gwiazdy\, planety\, galaktyki\, a może nawet fantastyczne istoty kosmiczne – wszystko może znaleźć się w Waszych pracach. Waszym zadaniem będzie stworzenie pracy plastycznej w wybranej technice: może być wykonana kredkami\, farbami\, ołówkiem\, węglem lub w technice kolażu. Ważne\, aby odpowiadała na temat konkursu i przedstawiała Waszą wizję „Wśród gwiazd i planet”. Możecie dostarczyć do MOK-u maksymalnie dwie prace. \nNa najlepszych czekają nagrody i wyróżnienia\, które zostaną wręczone podczas uroczystego podsumowania konkursu. Konkurs skierowany jest do dzieci uczęszczających do żłobków\, przedszkoli i szkół podstawowych. Najlepsze prace będą wyłaniane w odpowiednich kategoriach wiekowych. Powodzenia! \n\nREGULAMIN KONKURSU PLASTYCZNEGO + KARTA ZGŁOSZENIA\n 
URL:https://www.mokwojkowice.pl/wydarzenie/wsrod-gwiazd-i-planet-xxxiii-powiatowy-konkurs-plastyczny/
LOCATION:Miejski Ośrodek Kultury w Wojkowicach\, Jaworznik 6\, Wojkowice\, śląskie\, 42-580\, Poland
ATTACH;FMTTYPE=image/jpeg:https://www.mokwojkowice.pl/wp-content/uploads/2025/09/insta-KONKURS-PLASTYCZNY-.jpg
ORGANIZER;CN="Miejski%20O%C5%9Brodek%20Kultury%20w%20Wojkowicach":MAILTO:mok@mokwojkowice.pl
END:VEVENT
END:VCALENDAR